BEGIN:VCALENDAR
VERSION:2.0
PRODID:-//Hörömpő Andrea - ECPv6.15.19//NONSGML v1.0//EN
CALSCALE:GREGORIAN
METHOD:PUBLISH
X-WR-CALNAME:Hörömpő Andrea
X-ORIGINAL-URL:https://horompoandrea.hu
X-WR-CALDESC:Események Hörömpő Andrea
REFRESH-INTERVAL;VALUE=DURATION:PT1H
X-Robots-Tag:noindex
X-PUBLISHED-TTL:PT1H
BEGIN:VTIMEZONE
TZID:Europe/Budapest
BEGIN:DAYLIGHT
TZOFFSETFROM:+0100
TZOFFSETTO:+0200
TZNAME:CEST
DTSTART:20220327T010000
END:DAYLIGHT
BEGIN:STANDARD
TZOFFSETFROM:+0200
TZOFFSETTO:+0100
TZNAME:CET
DTSTART:20221030T010000
END:STANDARD
BEGIN:DAYLIGHT
TZOFFSETFROM:+0100
TZOFFSETTO:+0200
TZNAME:CEST
DTSTART:20230326T010000
END:DAYLIGHT
BEGIN:STANDARD
TZOFFSETFROM:+0200
TZOFFSETTO:+0100
TZNAME:CET
DTSTART:20231029T010000
END:STANDARD
BEGIN:DAYLIGHT
TZOFFSETFROM:+0100
TZOFFSETTO:+0200
TZNAME:CEST
DTSTART:20240331T010000
END:DAYLIGHT
BEGIN:STANDARD
TZOFFSETFROM:+0200
TZOFFSETTO:+0100
TZNAME:CET
DTSTART:20241027T010000
END:STANDARD
END:VTIMEZONE
BEGIN:VEVENT
DTSTART;TZID=Europe/Budapest:20230714T190000
DTEND;TZID=Europe/Budapest:20230721T200000
DTSTAMP:20260422T040035
CREATED:20230626T215124Z
LAST-MODIFIED:20230807T153620Z
UID:254639-1689361200-1689969600@horompoandrea.hu
SUMMARY:A Gazdagság Vonzásában: A Pénzügyi Szárnyalás Beindítása 7+1 napos Programsorozat
DESCRIPTION:Mennyire vonz a gazdagság?\nÉs mennyire vonzod te magad a gazdagságot?\nVannak-e még gazdagságot elutasító programjaid? Mi az a gazdagság\, ami akkor várhat rád\, ha ezeket feloldva megengeded magadnak\, a gazdagságot? Választod-e mostantól kezdve a pénzügyi szárnyalást? Annak a könnyedségét és a természetességét\, amikor bőségben és gazdagságban vagy? \nA pénzhez és gazdagsághoz való viszonyod alapvetően határozza meg az életed\, és a pénz\, gazdagság tudatalatti elutasításának feloldásával a pénzügyi szárnyalás is könnyen a valóságoddá válik! \nA 7+1 napos programsorozat tervezett tematikája:\n0. nap: A láthatatlan üvegplafon kitörése. A pénzfüggőség és a pénztől\, gazdagságtól való menekülés feloldása: A pénz és gazdagság elutasításának és a hozzájuk kapcsolódó ellenállás feloldása. A túlélés megszokásának elengedése\, a „csak annyi van\, ami minimum kell” valóságán felülemelkedés. \n1.nap: Tisztító est. A befogadás és birtoklás öröme: A gazdagsághoz fűződő ítéletek\, kikövetkeztetések\, eskük\, ígéretek feloldása. A gazdagokkal kapcsolatos nézőpontok azonosítása és feloldása\, a szegénység jóvá tételének feloldása. A gazdagságot korlátozó kontroll feloldása. A pénz és gazdagság démonizálásának feloldása. Kitörni a lemondásból és a korlátok közül. A befogadás és birtoklás ellenes programok\, az ehhez kapcsolódó elutasítások feloldása. Megtartani\, áramoltatni\, befektetni a pénzt. A saját pénz birtoklásának az öröme. \n2.nap: Azt vonzod\, ami vagy. A gazdagság energiája. Gazdagnak lenni\, Önmagadnak lenni: A gazdagság energiájának behívása\, együtt rezgés a gazdagsággal. A gazdagságra való megengedés megnyitása. A jó és a könnyű megengedése. Az Önmagadként létezés Gazdagként beindítása. \n3. nap: A pénz- és gazdagság teremtő erő aktiválása: Te dolgozol a pénzért vagy a pénz dolgozik érted? A gazdagság választása. A gazdagság szabadsága. A gazdagság teremtés öröme. A természetes gazdagság élménye. \n4. nap: Befogadni a szívedbe a gazdagságot: A teremtő erő és a szív erő összekapcsolása. Egy új minőségű gazdagság teremtése. A szív transzformációs ereje a gazdagság és a pénz megtisztításában. Élvezni a pénzt és a gazdagságot. \n5. nap: A gazdagság vonzásában\, a gazdagság növelő éberség beindítása: A lehetőségekre való éberség megnyitása\, a végtelen valóságokhoz és lehetőségekhez való kapcsolódás. A pénz\, cél helyett\, mint eszköz működtetése. \n6. nap: A luxus invitálása\, az elegancia\, mint új életmód természetessége: Az elegancia könnyedsége\, a szépség\, minőség\, luxus életminőséget javító terének választása és befogadása. Érték teremtése a gazdagság és bőség által\, fenntartható\, bőségben gazdag jövő teremtése. \n7. nap: A gazdagság\, mint inspiráció: A szívtudatos gazdagok valósága. Egy új gazdag minőség megszületése. Gazdagság öncél helyett egy nagyobb jóért. A másokkal való együtt teremtés működése. Gazdagnak lenni Együtt. Egységben lenni. \nMi az a gazdagság\, ami Rád várhat\, ha választod a felemelkedést és a pénzügyi szárnyalás beindítását?\nA programsorozaton elméleti és gyakorlati eszközöket egyaránt kapsz\, kérdésekkel\, tisztításokkal\, tudatosítással\, transzformációs meditációval\, feladatokkal segítelek abban\, hogy tudatosabbá válj a pénzzel és a gazdagsággal kapcsolatban. \nIdőpont: 2023. július 14-21. Minden este 19 óra. Minden nap 35-45 perces élő bejelentkezéssel. \nÁr: 24.900 Ft.\nA Felemelkedés Művészete 2 részes előadássorozattal együtt: 33.3300 Ft. (90 Euro) \nAll In Július: Az összes júliusi programom választása esetén: 88.800 Ft/240 Euro.  (Jelentkezés erre ITT lehetséges) \n\nA Felemelkedés Művészete 2 részes előadássorozat +\nA Gazdagság Vonzásában: A Pénzügyi Szárnyalás Beindítása 7+1 napos Programsorozat +\nGazdagság & Varázslat teremtése az Entitásokkal & Angyalokkal 1 napos Intenzív Masterclass\n\nHelyszín: Online\, külön zoom linkkel tudsz csatlakozni. Ha nem tudsz élőben jelen lenni\, a felvételeket utólag megnézheted és elérheted a programhoz külön készült drive linken. \nAz előadás anyagát megkapod videóban\, mp3-ban és írott pdf formátumban is. Jelentkezni a jegyvásárlásra kattintva lehetséges. \n Kérdés esetén keress bizalommal a hello@horompoandrea.hu címen. \nSzeretettel látlak!\nDr. Hörömpő Andrea\nÍró\, Tudatosság- és Éberségmentor
URL:https://horompoandrea.hu/esemeny/a-gazdagsag-vonzasaban-a-penzugyi-szarnyalas-beinditasa-71-napos-programsorozat/
CATEGORIES:Online előadás
ATTACH;FMTTYPE=image/jpeg:https://horompoandrea.hu/wp-content/uploads/2023/06/AE_606.jpg
END:VEVENT
END:VCALENDAR