BEGIN:VCALENDAR
VERSION:2.0
PRODID:-//Hörömpő Andrea - ECPv6.15.20//NONSGML v1.0//EN
CALSCALE:GREGORIAN
METHOD:PUBLISH
X-ORIGINAL-URL:https://horompoandrea.hu
X-WR-CALDESC:Események Hörömpő Andrea
REFRESH-INTERVAL;VALUE=DURATION:PT1H
X-Robots-Tag:noindex
X-PUBLISHED-TTL:PT1H
BEGIN:VTIMEZONE
TZID:Europe/Budapest
BEGIN:DAYLIGHT
TZOFFSETFROM:+0100
TZOFFSETTO:+0200
TZNAME:CEST
DTSTART:20230326T010000
END:DAYLIGHT
BEGIN:STANDARD
TZOFFSETFROM:+0200
TZOFFSETTO:+0100
TZNAME:CET
DTSTART:20231029T010000
END:STANDARD
BEGIN:DAYLIGHT
TZOFFSETFROM:+0100
TZOFFSETTO:+0200
TZNAME:CEST
DTSTART:20240331T010000
END:DAYLIGHT
BEGIN:STANDARD
TZOFFSETFROM:+0200
TZOFFSETTO:+0100
TZNAME:CET
DTSTART:20241027T010000
END:STANDARD
BEGIN:DAYLIGHT
TZOFFSETFROM:+0100
TZOFFSETTO:+0200
TZNAME:CEST
DTSTART:20250330T010000
END:DAYLIGHT
BEGIN:STANDARD
TZOFFSETFROM:+0200
TZOFFSETTO:+0100
TZNAME:CET
DTSTART:20251026T010000
END:STANDARD
END:VTIMEZONE
BEGIN:VEVENT
DTSTART;TZID=Europe/Budapest:20240928T093000
DTEND;TZID=Europe/Budapest:20240928T170000
DTSTAMP:20260424T085125
CREATED:20240903T101350Z
LAST-MODIFIED:20240904T201752Z
UID:258875-1727515800-1727542800@horompoandrea.hu
SUMMARY:Befogadni az Egység Entitásaitól. A Bőség\, Nagyság\, Boldogság befogadása Masterclass
DESCRIPTION:Mi az\, amivel az entitások megajándékoznának? Mi az\, amit eddig elképzelni sem tudtál\, hogy adnának\, hogy kaphatsz\, és most befogadhatsz? \nAz entitásoktól való befogadás a létezésnek egy magas fokú minősége. Készen állsz az entitásokkal való együtt teremtést egy magasabb szintre emelni?\nEzen az egy napos Masterclasson megnyitjuk magunkat az Egység Entitásaival való kapcsolódásra\, a velük való együtt teremtésre és a tőlük való befogadásra. \nA Masterclass tervezett témái:\n\nAz Egység entitásainak érzékelése\, az éberséged fokozása\, tisztítása\, az esetleges éberség korlátozások\, manipulációk feloldása\nA múltad az Egység entitásaival: Az elkülönülések feloldása\, az önkorlátozó hiedelmek\, az elkülönüléshez kapcsolódó fájdalmak\, traumák\, feloldása\nAz entitásokhoz kapcsolódó elutasítás\, elutasítottság érzésének\, fájdalmának elengedése\nAz entitásokhoz kapcsolódó önbüntetések\, önhibáztatások letevése\, az önmagaddal szembeni éberség és megengedés tágítása\nAz entitásoktól való befogadás akadályainak tudatosítása és feloldása\, az entitásokkal kapcsolatos korlátozó hitrendszerből való kilépés\nAz entitásokhoz kapcsolódó megmentő programokból való kilépés\, az esetleges áldozat szerepből való kilépés\nSebezhetőnek lenni az entitásokkal\, megnyílni az Egység Entitásaival való kapcsolódásra\nA láthatatlan segítőkkel\, személyes entitásaiddal való (újra) kapcsolódás\nHajlandónak lenni nagyobbá\, többé válni az entitások által\nMi az\, amit adhatsz az entitásoknak? Mi az\, amit kérhetsz az entitásoktól? Kiszámolás helyett Összhangban és Egységben lenni az entitásokkal\nA saját nagyszerűséged felismerése: Mi az az éberség és elismerés\, amit az entitások adnának rólad?\nA lehetőségeid felismerése: Mi az az éberség és elismerés\, amit az entitások adnának a lehetőségeidről?\nA könnyed választás\, mint a könnyed teremtés kulcsa. A választásaidban való megerősítés\, merni bármit választani és bízni a választásaidban\nBármit kérni\, bármit befogadni energiájába való megérkezés. Tudatos\, szívből jövő kérések\, tudatos\, szívből jövő befogadások\nAz Egység kapujában: A kétségek végleges feloldása\, (ön)elismerés Mesterfokon\nA korlátokon túli élet megteremtése. A korlátlan öröm\, korlátlan bőség befogadása\nAz Egység Bősége\, a Bőség Egysége az entitásokkal\nAz Öröm Önfeledtsége\, az Önfeledtség Öröme az entitásokkal\n\nIdőpont: 2024. szeptember 28. 9.30-17 óra \nHelyszín: Online\, külön zoom linkkel tudsz csatlakozni. Ha nem tudsz élőben jelen lenni\, de érdekel a Masterclass\, jelentkezz akkor is nyugodtan\, a felvételt utólag megnézheted és elérheted a programhoz külön készült drive linken. \nA Masterclass anyagát megkapod videóban\, mp3-ban és jár hozzá egy írott Munkafüzet (pdf) is. Jelentkezni a jegyvásárlásra kattintva lehetséges. \nEz egy haladó Masterclass\, így csak a Befogadás Korlátok Nélkül 7+1 napos Programsorozattal együtt választható.  \nÁr: Befogadás Korlátok Nélkül 7+1 napos Programsorozat + Masterclass = 59.900 Ft (158 Euro). Részletfizetésre van lehetőség\, két részletben. Az első részletet a Masterclass napjáig\, a második részletet pedig 30 napon belül rendezve. \nFizetési mód: Bankkártya\, átutalás \nA Masterclass előtt ajánlott bármilyen entitásokkal kapcsolatos anyag\, különösen az Entitás Tisztítás Gyűjtemény meghallgatása (újrahallgatása).  \nAjánlott előadások:\nSebezhetőség az Entitásokkal programsorozat\nAz entitásoktól való elkülönülések feloldása. Az entitásokra való éberség és varázslóképesség aktiválása előadás\nAz entitások vonzásában előadás\nAngyali birodalmak érintése előadássorozat \nEzzel kapcsolatban\, vagy ha bármi további kérdésed lenne\, érdeklődj nyugodtan a hello@horompoandrea.hu címen. A Masterclass tartalmazza a tanfolyam felvételét\, egy írásos anyagot (munkafüzetet)\, valamint egy Masterclass utáni egy alkalmas\, 1 hónapon belüli online utókövetést\, ahol a megtanultak gyakorlatba ültetésével kapcsolatos kérdéseidet teheted fel. \nKérdés esetén keress bizalommal a hello@horompoandrea.hu címen. \nSzeretettel látlak! \nDr.Hörömpő Andrea\nÍró\, Tudatosság- és Éberségmentor
URL:https://horompoandrea.hu/esemeny/befogadni-az-egyseg-entitasaitol-a-boseg-nagysag-boldogsag-befogadasa-masterclass/
CATEGORIES:Tanfolyam
ATTACH;FMTTYPE=image/jpeg:https://horompoandrea.hu/wp-content/uploads/2024/09/AE_678.jpg
END:VEVENT
END:VCALENDAR