BEGIN:VCALENDAR
VERSION:2.0
PRODID:-//Hörömpő Andrea - ECPv6.15.20//NONSGML v1.0//EN
CALSCALE:GREGORIAN
METHOD:PUBLISH
X-WR-CALNAME:Hörömpő Andrea
X-ORIGINAL-URL:https://horompoandrea.hu
X-WR-CALDESC:Események Hörömpő Andrea
REFRESH-INTERVAL;VALUE=DURATION:PT1H
X-Robots-Tag:noindex
X-PUBLISHED-TTL:PT1H
BEGIN:VTIMEZONE
TZID:Europe/Budapest
BEGIN:DAYLIGHT
TZOFFSETFROM:+0100
TZOFFSETTO:+0200
TZNAME:CEST
DTSTART:20230326T010000
END:DAYLIGHT
BEGIN:STANDARD
TZOFFSETFROM:+0200
TZOFFSETTO:+0100
TZNAME:CET
DTSTART:20231029T010000
END:STANDARD
BEGIN:DAYLIGHT
TZOFFSETFROM:+0100
TZOFFSETTO:+0200
TZNAME:CEST
DTSTART:20240331T010000
END:DAYLIGHT
BEGIN:STANDARD
TZOFFSETFROM:+0200
TZOFFSETTO:+0100
TZNAME:CET
DTSTART:20241027T010000
END:STANDARD
BEGIN:DAYLIGHT
TZOFFSETFROM:+0100
TZOFFSETTO:+0200
TZNAME:CEST
DTSTART:20250330T010000
END:DAYLIGHT
BEGIN:STANDARD
TZOFFSETFROM:+0200
TZOFFSETTO:+0100
TZNAME:CET
DTSTART:20251026T010000
END:STANDARD
END:VTIMEZONE
BEGIN:VEVENT
DTSTART;TZID=Europe/Budapest:20240524T190000
DTEND;TZID=Europe/Budapest:20240524T203000
DTSTAMP:20260424T141814
CREATED:20240513T152404Z
LAST-MODIFIED:20240513T152553Z
UID:257875-1716577200-1716582600@horompoandrea.hu
SUMMARY:Kérni és befogadni az Entitásoktól és Angyaloktól előadás
DESCRIPTION:Az entitásokkal és angyalokkal való kapcsolat felvétel egyik legegyszerűbb módja a tőlük való kérés. Sok ember azonban fél ettől\, vagy azt hiszi\, ettől elköteleződik\, alárendelődik\, nehéz számára mindez. Sok hazugság\, félreértés és félreértelmezés nehezíti ezt a témát\, pedig ha feloldod ezeket a nehézségben tartó programokat és tudatosítod a félreértéseket\, az entitásoktól\, angyaloktól való kérés és a tőlük való befogadás könnyűvé és természetessé válik. \nEbben az előadásban megismerheted az entitásoktól\, angyaloktól való kérés és befogadás működését\, és hogy hogyan tudod mindezt egyszerűen\, mindenféle rituálétól\, akadálytól\, korlátoktól mentesen könnyedén és természetesen az életed részévé tenni.\nAz előadás témái: \n\nAz entitásokra\, angyalokra való éberség és a velük való kapcsolódásra való megnyílás\nA kéréssel kapcsolatos nézőpontok tudatosítása és a kérésnek való ellenállás feloldása\nMegérdemlem/nem érdemlem meg\, lehetséges számomra/nem lehetséges – kétségek feloldása\, hamis hitrendszerek tudatosítása\nA kérés és alárendeltség\, kihasználás\, kizsákmányolás összekapcsolásának feloldása\nA kilátástalan kérés (könyörgés) és szívből jövő kérés különbségének tudatosítása\nAz entitásoktól\, angyaloktól való kérés elutasításának okai: tudatosítás és feloldás\nAz entitás és angyal múltad tudatosítása: amikor kértél és befogadtál…\nAmikor azt hitted entitástól/angyaltól kérsz\, de mégsem… A démoni manipulációk\, elköteleződések felismerése és feloldása\nA kérések\, alkuk miatti örök démoni elköteleződések feloldása\, amelyek megakadályozzák\, hogy tisztán kérj és befogadj az entitásoktól\, angyaloktól\nA kéréssel és befogadással kapcsolatos „soha”\, „örökké” eskük\, ígéretek\, félelmek feloldása\nA kérés\, mint az entitásokkal való együtt teremtés alfája\nA befogadás\, mint az entitásokkal való együtt teremtés omegája\nAmikor az entitások kapcsolódnának veled – az ellenállás feloldása\nAz entitások\, angyalok\, akik most is segítenének neked… Engeded\, hagyod\, hiszed?\nSzívből kérni és szívből befogadni: a szív szerepe az entitásokkal való kapcsolódásban és a tőlük való kérésben\, befogadásban\nKétirányú kapcsolódás: Mit adhatsz te az entitásoknak? Mi az\, amit tőled befogadhatnak?\nÖnértékelés\, önmagad elismerése\, kitágulni a befogadásra.\nNagyság és a befogadás. Az entitásoktól\, angyaloktól való befogadás feltételei és lehetőségei\nSegítség\, inspiráció\, éberség befogadása az entitásoktól\, angyaloktól\nMi az\, ami csak együtt lehetséges az entitásokkal\, angyalokkal?\n\nMi az\, ami lehetséges számodra az entitásokkal\, angyalokkal\, ha megnyitod magad a feléjük való kérésnek és befogadásnak?\nIdőpont: 2024. Május 24. 19 óra.  \nÁr: 12.900 Ft. KEDVEZMÉNYES ÁR: Május 30-ig: 9.900 Ft. (26 Euro).\nA május 23-i A Jól segítés művészete: Segíteni és a segítséget befogadni előadással együtt: 14.900 Ft.\nAz előadás a május 25-26. Együtt teremtés az Entitásokkal Masterclass résztvevői számára ajándék.\n \nHelyszín: Online\, külön zoom linkkel tudsz csatlakozni. Ha nem tudsz élőben jelen lenni\, a felvételeket utólag megnézheted és elérheted a programhoz külön készült drive linken. \nAz előadás anyagát megkapod videóban\, mp3-ban és írott pdf formátumban is. Jelentkezni a jegyvásárlásra kattintva lehetséges. \nAz előadás(sorozat)on elméleti és gyakorlati eszközöket egyaránt kapsz\, kérdésekkel\, tisztításokkal\, tudatosítással\, feladatokkal segítelek abban\, hogy tudatosabbá válj.  \nKérdés esetén keress bizalommal a hello@horompoandrea.hu címen. \nSzeretettel látlak! \nDr. Hörömpő Andrea\nÍró\, Tudatosság- és Éberségmentor
URL:https://horompoandrea.hu/esemeny/kerni-es-befogadni-az-entitasoktol-es-angyaloktol-eloadas/
CATEGORIES:Online előadás
ATTACH;FMTTYPE=image/jpeg:https://horompoandrea.hu/wp-content/uploads/2024/05/AE_111a.jpg
END:VEVENT
END:VCALENDAR